BEGIN:VCALENDAR
VERSION:2.0
PRODID:-//The Pier Hotel Coffs Harbour - ECPv4.3.2//NONSGML v1.0//EN
CALSCALE:GREGORIAN
METHOD:PUBLISH
X-WR-CALNAME:The Pier Hotel Coffs Harbour
X-ORIGINAL-URL:http://www.pierhotelcoffs.com.au
X-WR-CALDESC:Events for The Pier Hotel Coffs Harbour
BEGIN:VEVENT
DTSTART;TZID=UTC+0:20180303T200000
DTEND;TZID=UTC+0:20180303T230000
DTSTAMP:20180226T092852
CREATED:20170105T031227Z
LAST-MODIFIED:20180201T200527Z
UID:1086-1520107200-1520118000@www.pierhotelcoffs.com.au
SUMMARY:AQWA
DESCRIPTION:AQWA\, as the name suggests\, is a cool and refreshing new artist with a heavenly voice that leaves the listener adrift in an auditory nirvana. For the last 3 years she has been creating her own brand of style\, sound and fashion that fuses together into the complete audio-visual experience.\n\nAQWA grew up and still lives at the foothills of a mid-north coast holiday hamlet and the serenity of her surrounds is evident in her soothing vocals and wholehearted lyrics.\n\nHer coastal upbringing is unmistakable and at the tender age of 18 has already wooed crowds at International Surfing events like Surfest in Newcastle.\n\nShe has a distinct style that floats somewhere between the electronic sounds of and the earthy acoustic tonality of. Lorde  Eva Cassidy\n\nHer debut EP\, illustrates the potential of AQWA – synchronously placid and gracefully alluring. ‘Human’
URL:http://www.pierhotelcoffs.com.au/event/aqwa-duo/2018-03-03/
CATEGORIES:Home Page - Entertainment,What's On
ATTACH;FMTTYPE=image/jpeg:http://www.pierhotelcoffs.com.au/wp-content/uploads/2017/01/Aqwa2-478x318.jpg
END:VEVENT
BEGIN:VEVENT
DTSTART;TZID=UTC+0:20180309T200000
DTEND;TZID=UTC+0:20180309T233000
DTSTAMP:20180226T092852
CREATED:20151105T061710Z
LAST-MODIFIED:20180201T200556Z
UID:780-1520625600-1520638200@www.pierhotelcoffs.com.au
SUMMARY:Magic Mojo
DESCRIPTION:This great band are tight knit and are renowned for their versatility in performing crowd pleasing nostalgic hits to the thundering rock and funky hits of the 70s & 80s. You will love the atmosphere they can create!
URL:http://www.pierhotelcoffs.com.au/event/magic-mojo-2/2018-03-09/
CATEGORIES:Home Page - Entertainment,What's On
ATTACH;FMTTYPE=image/jpeg:http://www.pierhotelcoffs.com.au/wp-content/uploads/2015/06/Magic-Mojo.jpg
END:VEVENT
BEGIN:VEVENT
DTSTART;TZID=UTC+0:20180310T200000
DTEND;TZID=UTC+0:20180310T230000
DTSTAMP:20180226T092852
CREATED:20180201T200817Z
LAST-MODIFIED:20180201T200817Z
UID:1420-1520712000-1520722800@www.pierhotelcoffs.com.au
SUMMARY:The Barflys
DESCRIPTION:
URL:http://www.pierhotelcoffs.com.au/event/the-barflys/2018-03-10/
CATEGORIES:Home Page - Entertainment,What's On
ATTACH;FMTTYPE=image/jpeg:http://www.pierhotelcoffs.com.au/wp-content/uploads/2018/02/24296791_1761845820527158_4185872715293572861_n.jpg
END:VEVENT
BEGIN:VEVENT
DTSTART;TZID=UTC+0:20180316T200000
DTEND;TZID=UTC+0:20180316T233000
DTSTAMP:20180226T092852
CREATED:20160503T001640Z
LAST-MODIFIED:20180201T200909Z
UID:955-1521230400-1521243000@www.pierhotelcoffs.com.au
SUMMARY:Pink Zinc
DESCRIPTION:Pink Zinc is a collaboration of the east coast’s hottest young professional musicians all hailing from the Northern Rivers of N.S.W. From Sydney to Gold Coast\, Coffs Harbour to Brisbane all the way to Bundaberg\, Pink Zinc are the east coast’s premier touring covers band. Playing all the hits from the 70’s\, 80’s\, 90’s and now.
URL:http://www.pierhotelcoffs.com.au/event/pink-zinc/2018-03-16/
CATEGORIES:Home Page - Entertainment,What's On
ATTACH;FMTTYPE=image/jpeg:http://www.pierhotelcoffs.com.au/wp-content/uploads/2016/05/Pink-Zinc.jpg
END:VEVENT
BEGIN:VEVENT
DTSTART;TZID=UTC+0:20180317T200000
DTEND;TZID=UTC+0:20180317T230000
DTSTAMP:20180226T092852
CREATED:20180201T201146Z
LAST-MODIFIED:20180201T201146Z
UID:1425-1521316800-1521327600@www.pierhotelcoffs.com.au
SUMMARY:Tangled Duo
DESCRIPTION:
URL:http://www.pierhotelcoffs.com.au/event/tangled-duo/2018-03-17/
CATEGORIES:Home Page - Entertainment,What's On
ATTACH;FMTTYPE=image/jpeg:http://www.pierhotelcoffs.com.au/wp-content/uploads/2015/07/Dollarphotoclub_65182789.jpg
END:VEVENT
BEGIN:VEVENT
DTSTART;TZID=UTC+0:20180323T200000
DTEND;TZID=UTC+0:20180323T230000
DTSTAMP:20180226T092852
CREATED:20161115T002730Z
LAST-MODIFIED:20180201T201248Z
UID:1041-1521835200-1521846000@www.pierhotelcoffs.com.au
SUMMARY:Mick Bateman
DESCRIPTION:Mick Bateman on guitar and vocals illustrates just how to captivate and charm an audience of any size or age with classic hits from the 60’s through to favourites of today. The complete package\, a combination of high energy performance\, with a natural ability to keep the audience amused with a high level of comic relief.  Supported by state of the art sequencing equipment to provide everything  from acoustic ballads to a full big band sound \, Mick delivers a huge variety of songs to please everyone.\n\n 
URL:http://www.pierhotelcoffs.com.au/event/mick-bateman/2018-03-23/
CATEGORIES:Home Page - Entertainment,What's On
ATTACH;FMTTYPE=image/jpeg:http://www.pierhotelcoffs.com.au/wp-content/uploads/2017/03/Mick-Bateman-3-478x358.jpg
END:VEVENT
BEGIN:VEVENT
DTSTART;TZID=UTC+0:20180331T200000
DTEND;TZID=UTC+0:20180331T233000
DTSTAMP:20180226T092852
CREATED:20170105T025311Z
LAST-MODIFIED:20180201T201420Z
UID:1075-1522526400-1522539000@www.pierhotelcoffs.com.au
SUMMARY:Who's Charlie Duo
DESCRIPTION:Who's Charlie is a Piano vocal duo. 70′s\, 80′s\, 90′s and current material. With a perfected stage and sound set up\, complete with a portable small grand piano and keyboards. All that’s left to do is play the songs we all love to get into.
URL:http://www.pierhotelcoffs.com.au/event/whos-charlie/2018-03-31/
CATEGORIES:Home Page - Entertainment,What's On
ATTACH;FMTTYPE=image/jpeg:http://www.pierhotelcoffs.com.au/wp-content/uploads/2017/01/14753309_1093127154069549_6662098313143971407_o.jpg
END:VEVENT
END:VCALENDAR